BEGIN:VCALENDAR
VERSION:2.0
PRODID:-//Burlington Camden County Regional Chronic Disease Coalition - ECPv6.15.20//NONSGML v1.0//EN
CALSCALE:GREGORIAN
METHOD:PUBLISH
X-WR-CALNAME:Burlington Camden County Regional Chronic Disease Coalition
X-ORIGINAL-URL:https://www.bccrcdc.org
X-WR-CALDESC:Events for Burlington Camden County Regional Chronic Disease Coalition
REFRESH-INTERVAL;VALUE=DURATION:PT1H
X-Robots-Tag:noindex
X-PUBLISHED-TTL:PT1H
BEGIN:VTIMEZONE
TZID:UTC
BEGIN:STANDARD
TZOFFSETFROM:+0000
TZOFFSETTO:+0000
TZNAME:UTC
DTSTART:20210101T000000
END:STANDARD
END:VTIMEZONE
BEGIN:VEVENT
DTSTART;TZID=UTC:20220525T183000
DTEND;TZID=UTC:20220525T193000
DTSTAMP:20260425T232948
CREATED:20220407T185421Z
LAST-MODIFIED:20230112T132238Z
UID:35645-1653503400-1653507000@www.bccrcdc.org
SUMMARY:Gynecologic Cancer Support Group
DESCRIPTION:This women’s only support group focuses on women with ovarian\, cervical\, uterine\, endometrial and other gynecologic cancers. Come share your feelings and concerns with other women who have had similar experiences. The group is professionally facilitated by an oncology social worker. Meeting held via Microsoft Teams the 4th Wednesday of every month (except December) from 6:30-7:30pm. \nLearn more: https://virtua.org/events
URL:https://www.bccrcdc.org/event/gynecologic-cancer-support-group-525/
LOCATION:Virtual through Microsoft Teams\, NJ\, United States
CATEGORIES:Support Groups
ATTACH;FMTTYPE=image/jpeg:https://www.bccrcdc.org/wp-content/uploads/2022/04/0ammmujiieq.jpg
END:VEVENT
BEGIN:VEVENT
DTSTART;TZID=UTC:20220524T180000
DTEND;TZID=UTC:20220524T190000
DTSTAMP:20260425T232948
CREATED:20220407T184740Z
LAST-MODIFIED:20230112T132239Z
UID:35628-1653415200-1653418800@www.bccrcdc.org
SUMMARY:Cancer Survivors Support Group
DESCRIPTION:This support group focuses on cancer patients who have completed active treatment and are learning to live life as cancer survivors or for patients who wonder what life would be like after treatment. This group offers an opportunity to discover how your life has changed after cancer and embrace your “new normal.” The group is professionally facilitated by an Oncology Chaplain. \nLearn more: https://virtua.org/events
URL:https://www.bccrcdc.org/event/cancer-survivors-support-group-524/
LOCATION:Virtual through Microsoft Teams\, NJ\, United States
CATEGORIES:Support Groups
ATTACH;FMTTYPE=image/jpeg:https://www.bccrcdc.org/wp-content/uploads/2022/04/jhdqhefzjjs.jpg
END:VEVENT
BEGIN:VEVENT
DTSTART;TZID=UTC:20220524T180000
DTEND;TZID=UTC:20220524T190000
DTSTAMP:20260425T232948
CREATED:20220407T183954Z
LAST-MODIFIED:20230112T132239Z
UID:35611-1653415200-1653418800@www.bccrcdc.org
SUMMARY:Breast Cancer Support Group
DESCRIPTION:This women’s only support group focuses on women who have been newly diagnosed or are in active treatment for breast cancer. The group offers an opportunity to get emotional support\, to learn about how to navigate through your treatment options and to share concerns and triumphs. The group is professionally facilitated by an oncology social worker. \nLearn more: https://virtua.org/events 
URL:https://www.bccrcdc.org/event/breast-cancer-support-group-524/
LOCATION:Virtual through Microsoft Teams\, NJ\, United States
CATEGORIES:Support Groups
ATTACH;FMTTYPE=image/jpeg:https://www.bccrcdc.org/wp-content/uploads/2022/04/njv6xnlpnaa.jpg
END:VEVENT
BEGIN:VEVENT
DTSTART;TZID=UTC:20220522T083000
DTEND;TZID=UTC:20220522T151000
DTSTAMP:20260425T232948
CREATED:20220320T195231Z
LAST-MODIFIED:20230112T132239Z
UID:35448-1653208200-1653232200@www.bccrcdc.org
SUMMARY:Mobile Cancer Screenings
DESCRIPTION:NJCEED provides breast\, cervical\, prostate and colorectal cancer screenings for those who qualify. Clinical breast exams\, mammograms\, Pap smears\, pelvic exams\, PSA blood tests (for prostate screening)\, and fecal occult blood testing (for colorectal screening) are among the services offered by the program. You can review eligibility requirements and schedule your appointment online here. You will need to bring a form of identification and your completed application to your scheduled appointment. Applications in English\, Spanish\, and Portuguese are available here. \nTo see the full list of dates for all free cancer screenings near you\, follow the Virtua Free Cancer Screenings Facebook pageor visit the NJCEED page on Virtua’s website. \nFor questions or trouble with online scheduling\, please call 856-247-7388.
URL:https://www.bccrcdc.org/event/mobile-cancer-screenings-522/
LOCATION:Virtua Health OB/GYN\, 101 Burrs Road\, Westhampton\, United States
CATEGORIES:Free Screenings
ATTACH;FMTTYPE=image/jpeg:https://www.bccrcdc.org/wp-content/uploads/2022/04/tl447mekwuq.jpg
END:VEVENT
BEGIN:VEVENT
DTSTART;TZID=UTC:20220501T083000
DTEND;TZID=UTC:20220501T151000
DTSTAMP:20260425T232948
CREATED:20220407T182343Z
LAST-MODIFIED:20230112T132239Z
UID:35597-1651393800-1651417800@www.bccrcdc.org
SUMMARY:Mobile Cancer Screenings
DESCRIPTION:NJCEED provides breast\, cervical\, prostate and colorectal cancer screenings for those who qualify. Clinical breast exams\, mammograms\, Pap smears\, pelvic exams\, PSA blood tests (for prostate screening)\, and fecal occult blood testing (for colorectal screening) are among the services offered by the program. You can review eligibility requirements and schedule your appointment online here. You will need to bring a form of identification and your completed application to your scheduled appointment. Applications in English\, Spanish\, and Portuguese are available here. \nTo see the full list of dates for all free cancer screenings near you\, follow the Virtua Free Cancer Screenings Facebook pageor visit the NJCEED page on Virtua’s website. \nFor questions or trouble with online scheduling\, please call 856-247-7388.
URL:https://www.bccrcdc.org/event/mobile-cancer-screenings-501/
LOCATION:Virtua Memorial Radiology 175 Madison Ave Mt Holly\, NJ 08060\, 175 Madison Ave\, Mt Holly\, NJ\, 08060\, United States
CATEGORIES:Free Screenings
ATTACH;FMTTYPE=image/jpeg:https://www.bccrcdc.org/wp-content/uploads/2022/04/dk-4vwk1tw.jpg
END:VEVENT
BEGIN:VEVENT
DTSTART;TZID=UTC:20220427T183000
DTEND;TZID=UTC:20220427T193000
DTSTAMP:20260425T232948
CREATED:20220407T185357Z
LAST-MODIFIED:20230112T132240Z
UID:35642-1651084200-1651087800@www.bccrcdc.org
SUMMARY:Gynecologic Cancer Support Group
DESCRIPTION:This women’s only support group focuses on women with ovarian\, cervical\, uterine\, endometrial and other gynecologic cancers. Come share your feelings and concerns with other women who have had similar experiences. The group is professionally facilitated by an oncology social worker. Meeting held via Microsoft Teams the 4th Wednesday of every month (except December) from 6:30-7:30pm. \nLearn more: https://virtua.org/events
URL:https://www.bccrcdc.org/event/gynecologic-cancer-support-group-427/
LOCATION:Virtual through Microsoft Teams\, NJ\, United States
CATEGORIES:Support Groups
ATTACH;FMTTYPE=image/jpeg:https://www.bccrcdc.org/wp-content/uploads/2022/04/0ammmujiieq.jpg
END:VEVENT
BEGIN:VEVENT
DTSTART;TZID=UTC:20220426T180000
DTEND;TZID=UTC:20220426T190000
DTSTAMP:20260425T232948
CREATED:20220407T184655Z
LAST-MODIFIED:20230112T132240Z
UID:35625-1650996000-1650999600@www.bccrcdc.org
SUMMARY:Cancer Survivors Support Group
DESCRIPTION:This support group focuses on cancer patients who have completed active treatment and are learning to live life as cancer survivors or for patients who wonder what life would be like after treatment. This group offers an opportunity to discover how your life has changed after cancer and embrace your “new normal.” The group is professionally facilitated by an Oncology Chaplain. \nLearn more: https://virtua.org/events
URL:https://www.bccrcdc.org/event/cancer-survivors-support-group-426/
LOCATION:Virtual through Microsoft Teams\, NJ\, United States
CATEGORIES:Support Groups
ATTACH;FMTTYPE=image/jpeg:https://www.bccrcdc.org/wp-content/uploads/2022/04/jhdqhefzjjs.jpg
END:VEVENT
BEGIN:VEVENT
DTSTART;TZID=UTC:20220426T180000
DTEND;TZID=UTC:20220426T190000
DTSTAMP:20260425T232948
CREATED:20220407T183759Z
LAST-MODIFIED:20230112T132240Z
UID:35606-1650996000-1650999600@www.bccrcdc.org
SUMMARY:Breast Cancer Support Group
DESCRIPTION:This women’s only support group focuses on women who have been newly diagnosed or are in active treatment for breast cancer. The group offers an opportunity to get emotional support\, to learn about how to navigate through your treatment options and to share concerns and triumphs. The group is professionally facilitated by an oncology social worker. \nLearn more: https://virtua.org/events 
URL:https://www.bccrcdc.org/event/breast-cancer-support-group-426/
LOCATION:Virtual through Microsoft Teams\, NJ\, United States
CATEGORIES:Support Groups
ATTACH;FMTTYPE=image/jpeg:https://www.bccrcdc.org/wp-content/uploads/2022/04/njv6xnlpnaa.jpg
END:VEVENT
BEGIN:VEVENT
DTSTART;TZID=UTC:20220424T083000
DTEND;TZID=UTC:20220424T151000
DTSTAMP:20260425T232948
CREATED:20220407T182007Z
LAST-MODIFIED:20230112T132240Z
UID:35593-1650789000-1650813000@www.bccrcdc.org
SUMMARY:Mobile Cancer Screenings
DESCRIPTION:NJCEED provides breast\, cervical\, prostate and colorectal cancer screenings for those who qualify. Clinical breast exams\, mammograms\, Pap smears\, pelvic exams\, PSA blood tests (for prostate screening)\, and fecal occult blood testing (for colorectal screening) are among the services offered by the program. You can review eligibility requirements and schedule your appointment online here. You will need to bring a form of identification and your completed application to your scheduled appointment. Applications in English\, Spanish\, and Portuguese are available here. \nTo see the full list of dates for all free cancer screenings near you\, follow the Virtua Free Cancer Screenings Facebook pageor visit the NJCEED page on Virtua’s website. \nFor questions or trouble with online scheduling\, please call 856-247-7388.
URL:https://www.bccrcdc.org/event/mobile-cancer-screenings-424/
LOCATION:Virtua Memorial Radiology 175 Madison Ave Mt Holly\, NJ 08060\, 175 Madison Ave\, Mt Holly\, NJ\, 08060\, United States
CATEGORIES:Free Screenings
ATTACH;FMTTYPE=image/jpeg:https://www.bccrcdc.org/wp-content/uploads/2022/04/nsbxhrfcvzc.jpg
END:VEVENT
BEGIN:VEVENT
DTSTART;TZID=UTC:20220409T083000
DTEND;TZID=UTC:20220409T151000
DTSTAMP:20260425T232948
CREATED:20220320T194402Z
LAST-MODIFIED:20230112T132241Z
UID:35432-1649493000-1649517000@www.bccrcdc.org
SUMMARY:Mobile Cancer Screenings
DESCRIPTION:NJCEED provides breast\, cervical\, prostate and colorectal cancer screenings for those who qualify. Clinical breast exams\, mammograms\, Pap smears\, pelvic exams\, PSA blood tests (for prostate screening)\, and fecal occult blood testing (for colorectal screening) are among the services offered by the program. You can review eligibility requirements and schedule your appointment online here. You will need to bring a form of identification and your completed application to your scheduled appointment. Applications in English\, Spanish\, and Portuguese are available here. \nTo see the full list of dates for all free cancer screenings near you\, follow the Virtua Free Cancer Screenings Facebook pageor visit the NJCEED page on Virtua’s website. \nFor questions or trouble with online scheduling\, please call 856-247-7388.
URL:https://www.bccrcdc.org/event/mobile-cancer-screenings-409/
LOCATION:Virtua Health OB/GYN\, 101 Burrs Road\, Westhampton\, United States
CATEGORIES:Free Screenings
ATTACH;FMTTYPE=image/jpeg:https://www.bccrcdc.org/wp-content/uploads/2022/04/nr2c9avzfhy.jpg
END:VEVENT
END:VCALENDAR