BEGIN:VCALENDAR
VERSION:2.0
PRODID:-//Burlington Camden County Regional Chronic Disease Coalition - ECPv6.15.20//NONSGML v1.0//EN
CALSCALE:GREGORIAN
METHOD:PUBLISH
X-WR-CALNAME:Burlington Camden County Regional Chronic Disease Coalition
X-ORIGINAL-URL:https://www.bccrcdc.org
X-WR-CALDESC:Events for Burlington Camden County Regional Chronic Disease Coalition
REFRESH-INTERVAL;VALUE=DURATION:PT1H
X-Robots-Tag:noindex
X-PUBLISHED-TTL:PT1H
BEGIN:VTIMEZONE
TZID:UTC
BEGIN:STANDARD
TZOFFSETFROM:+0000
TZOFFSETTO:+0000
TZNAME:UTC
DTSTART:20210101T000000
END:STANDARD
END:VTIMEZONE
BEGIN:VEVENT
DTSTART;TZID=UTC:20220814T083000
DTEND;TZID=UTC:20220814T151000
DTSTAMP:20260426T022230
CREATED:20220330T133752Z
LAST-MODIFIED:20230112T132235Z
UID:35523-1660465800-1660489800@www.bccrcdc.org
SUMMARY:Mobile Cancer Screenings
DESCRIPTION:NJCEED provides breast\, cervical\, prostate and colorectal cancer screenings for those who qualify. Clinical breast exams\, mammograms\, Pap smears\, pelvic exams\, PSA blood tests (for prostate screening)\, and fecal occult blood testing (for colorectal screening) are among the services offered by the program. You can review eligibility requirements and schedule your appointment online here. You will need to bring a form of identification and your completed application to your scheduled appointment. Applications in English\, Spanish\, and Portuguese are available here. \nTo see the full list of dates for all free cancer screenings near you\, follow the Virtua Free Cancer Screenings Facebook pageor visit the NJCEED page on Virtua’s website. \nFor questions or trouble with online scheduling\, please call 856-247-7388.
URL:https://www.bccrcdc.org/event/mobile-cancer-screenings-814/
LOCATION:Virtua Health OB/GYN\, 101 Burrs Road\, Westhampton\, United States
CATEGORIES:Free Screenings
ATTACH;FMTTYPE=image/jpeg:https://www.bccrcdc.org/wp-content/uploads/2022/04/tl447mekwuq.jpg
END:VEVENT
BEGIN:VEVENT
DTSTART;TZID=UTC:20220806T083000
DTEND;TZID=UTC:20220806T151000
DTSTAMP:20260426T022230
CREATED:20220330T133722Z
LAST-MODIFIED:20230112T132235Z
UID:35521-1659774600-1659798600@www.bccrcdc.org
SUMMARY:Mobile Cancer Screenings
DESCRIPTION:NJCEED provides breast\, cervical\, prostate and colorectal cancer screenings for those who qualify. Clinical breast exams\, mammograms\, Pap smears\, pelvic exams\, PSA blood tests (for prostate screening)\, and fecal occult blood testing (for colorectal screening) are among the services offered by the program. You can review eligibility requirements and schedule your appointment online here. You will need to bring a form of identification and your completed application to your scheduled appointment. Applications in English\, Spanish\, and Portuguese are available here. \nTo see the full list of dates for all free cancer screenings near you\, follow the Virtua Free Cancer Screenings Facebook pageor visit the NJCEED page on Virtua’s website. \nFor questions or trouble with online scheduling\, please call 856-247-7388.
URL:https://www.bccrcdc.org/event/mobile-cancer-screenings-806/
LOCATION:Cherry Hill Free Clinic\, 5 Esterbrook Lane\, Cherry Hill\, United States
CATEGORIES:Free Screenings
ATTACH;FMTTYPE=image/jpeg:https://www.bccrcdc.org/wp-content/uploads/2022/04/dk-4vwk1tw.jpg
END:VEVENT
BEGIN:VEVENT
DTSTART;TZID=UTC:20220723T083000
DTEND;TZID=UTC:20220723T151000
DTSTAMP:20260426T022230
CREATED:20220330T133632Z
LAST-MODIFIED:20230112T132237Z
UID:35519-1658565000-1658589000@www.bccrcdc.org
SUMMARY:Mobile Cancer Screenings
DESCRIPTION:NJCEED provides breast\, cervical\, prostate and colorectal cancer screenings for those who qualify. Clinical breast exams\, mammograms\, Pap smears\, pelvic exams\, PSA blood tests (for prostate screening)\, and fecal occult blood testing (for colorectal screening) are among the services offered by the program. You can review eligibility requirements and schedule your appointment online here. You will need to bring a form of identification and your completed application to your scheduled appointment. Applications in English\, Spanish\, and Portuguese are available here. \nTo see the full list of dates for all free cancer screenings near you\, follow the Virtua Free Cancer Screenings Facebook pageor visit the NJCEED page on Virtua’s website. \nFor questions or trouble with online scheduling\, please call 856-247-7388.
URL:https://www.bccrcdc.org/event/mobile-cancer-screenings-723/
LOCATION:Virtua Health OB/GYN\, 101 Burrs Road\, Westhampton\, United States
CATEGORIES:Free Screenings
ATTACH;FMTTYPE=image/jpeg:https://www.bccrcdc.org/wp-content/uploads/2022/04/lbuoh89q4es.jpg
END:VEVENT
BEGIN:VEVENT
DTSTART;TZID=UTC:20220709T083000
DTEND;TZID=UTC:20220709T151000
DTSTAMP:20260426T022230
CREATED:20220330T133556Z
LAST-MODIFIED:20230112T132237Z
UID:35517-1657355400-1657379400@www.bccrcdc.org
SUMMARY:Mobile Cancer Screenings
DESCRIPTION:NJCEED provides breast\, cervical\, prostate and colorectal cancer screenings for those who qualify. Clinical breast exams\, mammograms\, Pap smears\, pelvic exams\, PSA blood tests (for prostate screening)\, and fecal occult blood testing (for colorectal screening) are among the services offered by the program. You can review eligibility requirements and schedule your appointment online here. You will need to bring a form of identification and your completed application to your scheduled appointment. Applications in English\, Spanish\, and Portuguese are available here. \nTo see the full list of dates for all free cancer screenings near you\, follow the Virtua Free Cancer Screenings Facebook pageor visit the NJCEED page on Virtua’s website. \nFor questions or trouble with online scheduling\, please call 856-247-7388.
URL:https://www.bccrcdc.org/event/mobile-cancer-screenings-709/
LOCATION:Cherry Hill Free Clinic\, 5 Esterbrook Lane\, Cherry Hill\, United States
CATEGORIES:Free Screenings
ATTACH;FMTTYPE=image/jpeg:https://www.bccrcdc.org/wp-content/uploads/2022/04/j_993suzjc0.jpg
END:VEVENT
BEGIN:VEVENT
DTSTART;TZID=UTC:20220626T083000
DTEND;TZID=UTC:20220626T151000
DTSTAMP:20260426T022230
CREATED:20220330T133436Z
LAST-MODIFIED:20230112T132238Z
UID:35515-1656232200-1656256200@www.bccrcdc.org
SUMMARY:Mobile Cancer Screenings
DESCRIPTION:NJCEED provides breast\, cervical\, prostate and colorectal cancer screenings for those who qualify. Clinical breast exams\, mammograms\, Pap smears\, pelvic exams\, PSA blood tests (for prostate screening)\, and fecal occult blood testing (for colorectal screening) are among the services offered by the program. You can review eligibility requirements and schedule your appointment online here. You will need to bring a form of identification and your completed application to your scheduled appointment. Applications in English\, Spanish\, and Portuguese are available here. \nTo see the full list of dates for all free cancer screenings near you\, follow the Virtua Free Cancer Screenings Facebook pageor visit the NJCEED page on Virtua’s website. \nFor questions or trouble with online scheduling\, please call 856-247-7388.
URL:https://www.bccrcdc.org/event/mobile-cancer-screenings-626/
LOCATION:Virtua Health OB/GYN\, 101 Burrs Road\, Westhampton\, United States
CATEGORIES:Free Screenings
ATTACH;FMTTYPE=image/jpeg:https://www.bccrcdc.org/wp-content/uploads/2022/04/nr2c9avzfhy.jpg
END:VEVENT
BEGIN:VEVENT
DTSTART;TZID=UTC:20220622T090000
DTEND;TZID=UTC:20220622T170000
DTSTAMP:20260426T022230
CREATED:20220330T133339Z
LAST-MODIFIED:20230112T132238Z
UID:35512-1655888400-1655917200@www.bccrcdc.org
SUMMARY:Mobile Cancer Screenings
DESCRIPTION:NJCEED provides breast\, cervical\, prostate and colorectal cancer screenings for those who qualify. Clinical breast exams\, mammograms\, Pap smears\, pelvic exams\, PSA blood tests (for prostate screening)\, and fecal occult blood testing (for colorectal screening) are among the services offered by the program. You can review eligibility requirements and schedule your appointment online here. You will need to bring a form of identification and your completed application to your scheduled appointment. Applications in English\, Spanish\, and Portuguese are available here. \nTo see the full list of dates for all free cancer screenings near you\, follow the Virtua Free Cancer Screenings Facebook pageor visit the NJCEED page on Virtua’s website. \nFor questions or trouble with online scheduling\, please call 856-247-7388.
URL:https://www.bccrcdc.org/event/mobile-cancer-screenings-622/
LOCATION:Burlington Diagnostic Imaging\, 2800 US-130\, Cinnaminson\, NJ\, 08077\, United States
CATEGORIES:Free Screenings
ATTACH;FMTTYPE=image/jpeg:https://www.bccrcdc.org/wp-content/uploads/2022/04/nr2c9avzfhy.jpg
END:VEVENT
BEGIN:VEVENT
DTSTART;TZID=UTC:20220522T083000
DTEND;TZID=UTC:20220522T151000
DTSTAMP:20260426T022230
CREATED:20220320T195231Z
LAST-MODIFIED:20230112T132239Z
UID:35448-1653208200-1653232200@www.bccrcdc.org
SUMMARY:Mobile Cancer Screenings
DESCRIPTION:NJCEED provides breast\, cervical\, prostate and colorectal cancer screenings for those who qualify. Clinical breast exams\, mammograms\, Pap smears\, pelvic exams\, PSA blood tests (for prostate screening)\, and fecal occult blood testing (for colorectal screening) are among the services offered by the program. You can review eligibility requirements and schedule your appointment online here. You will need to bring a form of identification and your completed application to your scheduled appointment. Applications in English\, Spanish\, and Portuguese are available here. \nTo see the full list of dates for all free cancer screenings near you\, follow the Virtua Free Cancer Screenings Facebook pageor visit the NJCEED page on Virtua’s website. \nFor questions or trouble with online scheduling\, please call 856-247-7388.
URL:https://www.bccrcdc.org/event/mobile-cancer-screenings-522/
LOCATION:Virtua Health OB/GYN\, 101 Burrs Road\, Westhampton\, United States
CATEGORIES:Free Screenings
ATTACH;FMTTYPE=image/jpeg:https://www.bccrcdc.org/wp-content/uploads/2022/04/tl447mekwuq.jpg
END:VEVENT
BEGIN:VEVENT
DTSTART;TZID=UTC:20220501T083000
DTEND;TZID=UTC:20220501T151000
DTSTAMP:20260426T022230
CREATED:20220407T182343Z
LAST-MODIFIED:20230112T132239Z
UID:35597-1651393800-1651417800@www.bccrcdc.org
SUMMARY:Mobile Cancer Screenings
DESCRIPTION:NJCEED provides breast\, cervical\, prostate and colorectal cancer screenings for those who qualify. Clinical breast exams\, mammograms\, Pap smears\, pelvic exams\, PSA blood tests (for prostate screening)\, and fecal occult blood testing (for colorectal screening) are among the services offered by the program. You can review eligibility requirements and schedule your appointment online here. You will need to bring a form of identification and your completed application to your scheduled appointment. Applications in English\, Spanish\, and Portuguese are available here. \nTo see the full list of dates for all free cancer screenings near you\, follow the Virtua Free Cancer Screenings Facebook pageor visit the NJCEED page on Virtua’s website. \nFor questions or trouble with online scheduling\, please call 856-247-7388.
URL:https://www.bccrcdc.org/event/mobile-cancer-screenings-501/
LOCATION:Virtua Memorial Radiology 175 Madison Ave Mt Holly\, NJ 08060\, 175 Madison Ave\, Mt Holly\, NJ\, 08060\, United States
CATEGORIES:Free Screenings
ATTACH;FMTTYPE=image/jpeg:https://www.bccrcdc.org/wp-content/uploads/2022/04/dk-4vwk1tw.jpg
END:VEVENT
BEGIN:VEVENT
DTSTART;TZID=UTC:20220424T083000
DTEND;TZID=UTC:20220424T151000
DTSTAMP:20260426T022230
CREATED:20220407T182007Z
LAST-MODIFIED:20230112T132240Z
UID:35593-1650789000-1650813000@www.bccrcdc.org
SUMMARY:Mobile Cancer Screenings
DESCRIPTION:NJCEED provides breast\, cervical\, prostate and colorectal cancer screenings for those who qualify. Clinical breast exams\, mammograms\, Pap smears\, pelvic exams\, PSA blood tests (for prostate screening)\, and fecal occult blood testing (for colorectal screening) are among the services offered by the program. You can review eligibility requirements and schedule your appointment online here. You will need to bring a form of identification and your completed application to your scheduled appointment. Applications in English\, Spanish\, and Portuguese are available here. \nTo see the full list of dates for all free cancer screenings near you\, follow the Virtua Free Cancer Screenings Facebook pageor visit the NJCEED page on Virtua’s website. \nFor questions or trouble with online scheduling\, please call 856-247-7388.
URL:https://www.bccrcdc.org/event/mobile-cancer-screenings-424/
LOCATION:Virtua Memorial Radiology 175 Madison Ave Mt Holly\, NJ 08060\, 175 Madison Ave\, Mt Holly\, NJ\, 08060\, United States
CATEGORIES:Free Screenings
ATTACH;FMTTYPE=image/jpeg:https://www.bccrcdc.org/wp-content/uploads/2022/04/nsbxhrfcvzc.jpg
END:VEVENT
BEGIN:VEVENT
DTSTART;TZID=UTC:20220409T083000
DTEND;TZID=UTC:20220409T151000
DTSTAMP:20260426T022230
CREATED:20220320T194402Z
LAST-MODIFIED:20230112T132241Z
UID:35432-1649493000-1649517000@www.bccrcdc.org
SUMMARY:Mobile Cancer Screenings
DESCRIPTION:NJCEED provides breast\, cervical\, prostate and colorectal cancer screenings for those who qualify. Clinical breast exams\, mammograms\, Pap smears\, pelvic exams\, PSA blood tests (for prostate screening)\, and fecal occult blood testing (for colorectal screening) are among the services offered by the program. You can review eligibility requirements and schedule your appointment online here. You will need to bring a form of identification and your completed application to your scheduled appointment. Applications in English\, Spanish\, and Portuguese are available here. \nTo see the full list of dates for all free cancer screenings near you\, follow the Virtua Free Cancer Screenings Facebook pageor visit the NJCEED page on Virtua’s website. \nFor questions or trouble with online scheduling\, please call 856-247-7388.
URL:https://www.bccrcdc.org/event/mobile-cancer-screenings-409/
LOCATION:Virtua Health OB/GYN\, 101 Burrs Road\, Westhampton\, United States
CATEGORIES:Free Screenings
ATTACH;FMTTYPE=image/jpeg:https://www.bccrcdc.org/wp-content/uploads/2022/04/nr2c9avzfhy.jpg
END:VEVENT
END:VCALENDAR